BEGIN:VCALENDAR
VERSION:2.0
PRODID:icalendar-ruby
CALSCALE:GREGORIAN
BEGIN:VEVENT
DTSTAMP:20260419T160554Z
UID:8aaefb72-c2c6-4c7e-80b5-9985bfac1e51
DTSTART;TZID=Pacific/Auckland:20260419T133000
DTEND;TZID=Pacific/Auckland:20260419T140000
DESCRIPTION:Property ID# 606824
SUMMARY:Openhome for 28 Balmedie Ridge
END:VEVENT
END:VCALENDAR
