BEGIN:VCALENDAR
VERSION:2.0
PRODID:icalendar-ruby
CALSCALE:GREGORIAN
BEGIN:VEVENT
DTSTAMP:20260419T160655Z
UID:86b970d4-e71f-48e5-bc8e-e169939ce85b
DTSTART;VALUE=DATE:20260506
DESCRIPTION:Property ID# 606900\, Locatoin: Harcourts Auction Rooms\, 1 Thi
 rd Avenue\, Tauranga\, Time: 12:00PM
SUMMARY:Auction for 10A Links Avenue
END:VEVENT
END:VCALENDAR
