BEGIN:VCALENDAR
VERSION:2.0
PRODID:icalendar-ruby
CALSCALE:GREGORIAN
BEGIN:VEVENT
DTSTAMP:20260419T160939Z
UID:f11825b4-bde1-48de-aff7-8e2d41c07724
DTSTART;VALUE=DATE:20260520
DESCRIPTION:Property ID# 606824\, Locatoin: 247 Cameron Road\, Tauranga\, T
 ime: 1:00PM
SUMMARY:Auction for 28 Balmedie Ridge
END:VEVENT
END:VCALENDAR
