BEGIN:VCALENDAR
VERSION:2.0
PRODID:icalendar-ruby
CALSCALE:GREGORIAN
BEGIN:VEVENT
DTSTAMP:20260420T005234Z
UID:aa467152-5609-4fd4-a052-a59409aa0d7e
DTSTART;VALUE=DATE:20260430
DESCRIPTION:Property ID# 606388\, Locatoin: East Realty\, 293 Cameron Road\
 , Tauranga (Unless Sold Prior)\, Time: 1:00PM
SUMMARY:Auction for 32 Vale Street
END:VEVENT
END:VCALENDAR
