BEGIN:VCALENDAR
VERSION:2.0
PRODID:icalendar-ruby
CALSCALE:GREGORIAN
BEGIN:VEVENT
DTSTAMP:20260419T192836Z
UID:dd88bc27-017b-4c4e-948b-494411370acd
DTSTART;VALUE=DATE:20260422
DESCRIPTION:Property ID# 606365\, Locatoin: Harcourts Auction Rooms\, 1 Thi
 rd Avenue\, Tauranga\, Time: 10:30AM
SUMMARY:Auction for 30/31 Reynolds Place
END:VEVENT
END:VCALENDAR
