BEGIN:VCALENDAR
VERSION:2.0
PRODID:icalendar-ruby
CALSCALE:GREGORIAN
BEGIN:VEVENT
DTSTAMP:20260419T230316Z
UID:12555f10-630e-45eb-840e-04d7cd4f73f2
DTSTART;VALUE=DATE:20260506
DESCRIPTION:Property ID# 606339\, Locatoin: Auction Rooms\, 247 Cameron Roa
 d\, Tauranga. Unless sold prior\, Time: 1:00PM
SUMMARY:Auction for 7 Apex Way
END:VEVENT
END:VCALENDAR
