BEGIN:VCALENDAR
VERSION:2.0
PRODID:icalendar-ruby
CALSCALE:GREGORIAN
BEGIN:VEVENT
DTSTAMP:20260420T003904Z
UID:83b36ba3-35a2-4c01-b6fb-d4616c36c323
DTSTART;VALUE=DATE:20260423
DESCRIPTION:Property ID# 606278\, Locatoin: East Realty\, 293 Cameron Road\
 , Tauranga (Unless Sold Prior)\, Time: 1:00PM
SUMMARY:Auction for 15 Ashgrove Place
END:VEVENT
END:VCALENDAR
