BEGIN:VCALENDAR
VERSION:2.0
PRODID:icalendar-ruby
CALSCALE:GREGORIAN
BEGIN:VEVENT
DTSTAMP:20260419T230832Z
UID:64198ce8-8295-487f-a49d-680a4f662a7e
DTSTART;VALUE=DATE:20260318
DESCRIPTION:Property ID# 604116\, Locatoin: Bayleys Auction Rooms\, 247 Cam
 eron Road Tauranga (if not sold prior)\, Time: 12:00PM
SUMMARY:Auction for 
END:VEVENT
END:VCALENDAR
