BEGIN:VCALENDAR
VERSION:2.0
PRODID:icalendar-ruby
CALSCALE:GREGORIAN
BEGIN:VEVENT
DTSTAMP:20260419T232204Z
UID:a198ba35-e999-45d1-b01f-1293cd7e23ed
DTSTART;VALUE=DATE:20260304
DESCRIPTION:Property ID# 603198\, Locatoin: Auction Rooms\, 247 Cameron Roa
 d\, Tauranga. Unless sold prior\, Time: 1:00PM
SUMMARY:Auction for 
END:VEVENT
END:VCALENDAR
