BEGIN:VCALENDAR
VERSION:2.0
PRODID:icalendar-ruby
CALSCALE:GREGORIAN
BEGIN:VEVENT
DTSTAMP:20260419T232314Z
UID:846eb6a0-3530-41ba-b31f-a0ee52569f7a
DTSTART;VALUE=DATE:20260225
DESCRIPTION:Property ID# 602873\, Locatoin: Bayleys Auction Rooms\, 247 Cam
 eron Road Tauranga (if not sold prior)\, Time: 1:00PM
SUMMARY:Auction for 1/2 Sixth Avenue
END:VEVENT
END:VCALENDAR
