BEGIN:VCALENDAR
VERSION:2.0
PRODID:icalendar-ruby
CALSCALE:GREGORIAN
BEGIN:VEVENT
DTSTAMP:20260419T231417Z
UID:1a1cdd62-9993-4d67-bd67-f62a1ec795a4
DTSTART;VALUE=DATE:20251217
DESCRIPTION:Property ID# 600761\, Locatoin: Auction Rooms\, 247 Cameron Roa
 d\, Tauranga. Unless sold prior\, Time: 1:00PM
SUMMARY:Auction for 
END:VEVENT
END:VCALENDAR
