BEGIN:VCALENDAR
VERSION:2.0
PRODID:icalendar-ruby
CALSCALE:GREGORIAN
BEGIN:VEVENT
DTSTAMP:20260419T230307Z
UID:53149120-4bca-4bcc-8336-d2764c6bb0d3
DTSTART;VALUE=DATE:20251119
DESCRIPTION:Property ID# 599231\, Locatoin: Bayleys Auction Rooms\, 247 Cam
 eron Road Tauranga (if not sold prior)\, Time: 1:00PM
SUMMARY:Auction for 
END:VEVENT
END:VCALENDAR
