BEGIN:VCALENDAR
VERSION:2.0
PRODID:icalendar-ruby
CALSCALE:GREGORIAN
BEGIN:VEVENT
DTSTAMP:20260420T005100Z
UID:7592f66b-88cd-4452-a70e-522bdb3fb64f
DTSTART;VALUE=DATE:20251023
DESCRIPTION:Property ID# 598211\, Locatoin: East Realty\, 293 Cameron Road\
 , Tauranga (Unless Sold Prior)\, Time: 1:00PM
SUMMARY:Auction for 
END:VEVENT
END:VCALENDAR
