BEGIN:VCALENDAR
VERSION:2.0
PRODID:icalendar-ruby
CALSCALE:GREGORIAN
BEGIN:VEVENT
DTSTAMP:20260424T095425Z
UID:87a13c02-83d0-4951-93b1-146b29f4048b
DTSTART;VALUE=DATE:20251016
DESCRIPTION:Property ID# 597594\, Locatoin: 247 Cameron Road\, Taraunga\, T
 ime: 1:00PM
SUMMARY:Auction for 
END:VEVENT
END:VCALENDAR
