BEGIN:VCALENDAR
VERSION:2.0
PRODID:icalendar-ruby
CALSCALE:GREGORIAN
BEGIN:VEVENT
DTSTAMP:20260426T040528Z
UID:ee8e3bbb-6d52-4201-a147-e9f845ae428e
DTSTART;VALUE=DATE:20250925
DESCRIPTION:Property ID# 596957\, Time: 12:00PM
SUMMARY:Auction for 
END:VEVENT
END:VCALENDAR
