BEGIN:VCALENDAR
VERSION:2.0
PRODID:icalendar-ruby
CALSCALE:GREGORIAN
BEGIN:VEVENT
DTSTAMP:20260419T192612Z
UID:82bc5479-b7b9-4c60-83e9-50c72cbbf185
DTSTART;VALUE=DATE:20250507
DESCRIPTION:Property ID# 590567\, Locatoin: Harcourts Auction Room\, 1 Thir
 d Avenue\, Tauranga\, Time: 11:30AM
SUMMARY:Auction for 
END:VEVENT
END:VCALENDAR
