BEGIN:VCALENDAR
VERSION:2.0
PRODID:icalendar-ruby
CALSCALE:GREGORIAN
BEGIN:VEVENT
DTSTAMP:20260426T035138Z
UID:946e453e-9575-4d67-91e3-6bc7de46d36d
DTSTART;VALUE=DATE:20250314
DESCRIPTION:Property ID# 588713\, Time: 11:00AM
SUMMARY:Auction for 
END:VEVENT
END:VCALENDAR
