BEGIN:VCALENDAR
VERSION:2.0
PRODID:icalendar-ruby
CALSCALE:GREGORIAN
BEGIN:VEVENT
DTSTAMP:20260426T040705Z
UID:e6e11da7-050b-4e4d-89d5-74abab92a3a8
DTSTART;VALUE=DATE:20250213
DESCRIPTION:Property ID# 585769\, Locatoin: 247 Cameron Road\, Tauranga\, T
 ime: 1:00PM
SUMMARY:Auction for 
END:VEVENT
END:VCALENDAR
