BEGIN:VCALENDAR
VERSION:2.0
PRODID:icalendar-ruby
CALSCALE:GREGORIAN
BEGIN:VEVENT
DTSTAMP:20260426T035514Z
UID:bf469fa0-45b7-4e88-9df9-bb6328b5bdd6
DTSTART;VALUE=DATE:20240808
DESCRIPTION:Property ID# 578938\, Locatoin: Auction rooms\, 247 Cameron Rd\
 , Tauranga \, Time: 1:00PM
SUMMARY:Auction for 
END:VEVENT
END:VCALENDAR
