BEGIN:VCALENDAR
VERSION:2.0
PRODID:icalendar-ruby
CALSCALE:GREGORIAN
BEGIN:VEVENT
DTSTAMP:20260419T193618Z
UID:eb84eab6-211a-4726-bf68-5d8218bded5c
DTSTART;VALUE=DATE:20240522
DESCRIPTION:Property ID# 574879\, Locatoin: 247 Cameron Road\, Tauranga\, T
 ime: 1:00PM
SUMMARY:Auction for 
END:VEVENT
END:VCALENDAR
