BEGIN:VCALENDAR
VERSION:2.0
PRODID:icalendar-ruby
CALSCALE:GREGORIAN
BEGIN:VEVENT
DTSTAMP:20260426T035632Z
UID:83fc0af9-c197-4b13-9ea4-d1b5923aebf0
DTSTART;VALUE=DATE:20240314
DESCRIPTION:Property ID# 570744\, Locatoin: Auction rooms\, 247 Cameron Rd\
 , Tauranga \, Time: 1:00PM
SUMMARY:Auction for 
END:VEVENT
END:VCALENDAR
