BEGIN:VCALENDAR
VERSION:2.0
PRODID:icalendar-ruby
CALSCALE:GREGORIAN
BEGIN:VEVENT
DTSTAMP:20260426T035954Z
UID:6f39c795-b48d-492b-a726-d6e9faffe781
DTSTART;VALUE=DATE:20231005
DESCRIPTION:Property ID# 561865\, Locatoin: 247 Cameron Rd\, Tauranga \, Ti
 me: 1:00PM
SUMMARY:Auction for 
END:VEVENT
END:VCALENDAR
