BEGIN:VCALENDAR
VERSION:2.0
PRODID:icalendar-ruby
CALSCALE:GREGORIAN
BEGIN:VEVENT
DTSTAMP:20260426T035750Z
UID:3d7c561e-f6ec-4f58-aa59-39dec8f60036
DTSTART;VALUE=DATE:20230622
DESCRIPTION:Property ID# 557887\, Locatoin: Auction rooms\, 247 Cameron Rd\
 , Tauranga \, Time: 1:00PM
SUMMARY:Auction for 
END:VEVENT
END:VCALENDAR
