BEGIN:VCALENDAR
VERSION:2.0
PRODID:icalendar-ruby
CALSCALE:GREGORIAN
BEGIN:VEVENT
DTSTAMP:20260419T195204Z
UID:4374faac-8990-49b4-a0a8-f302a22282ac
DTSTART;VALUE=DATE:20221102
DESCRIPTION:Property ID# 544067\, Locatoin: 247 Cameron Road\, Tauranga (un
 less sold prior)\, Time: 1:00PM
SUMMARY:Auction for 
END:VEVENT
END:VCALENDAR
