BEGIN:VCALENDAR
VERSION:2.0
PRODID:icalendar-ruby
CALSCALE:GREGORIAN
BEGIN:VEVENT
DTSTAMP:20260419T232204Z
UID:0d0d2c98-c805-4e71-9293-87608c53031d
DTSTART;VALUE=DATE:20220202
DESCRIPTION:Property ID# 525353\, Locatoin: 247 Cameron Road\, Tauranga\, T
 ime: 1:00PM
SUMMARY:Auction for 
END:VEVENT
END:VCALENDAR
