BEGIN:VCALENDAR
VERSION:2.0
PRODID:icalendar-ruby
CALSCALE:GREGORIAN
BEGIN:VEVENT
DTSTAMP:20260419T231416Z
UID:9b730813-b9a4-4b72-92e1-54a2768748b9
DTSTART;VALUE=DATE:20211208
DESCRIPTION:Property ID# 522077\, Locatoin: 247 Cameron Road\, Tauranga (un
 less sold prior)\, Time: 1:00PM
SUMMARY:Auction for 
END:VEVENT
END:VCALENDAR
