BEGIN:VCALENDAR
VERSION:2.0
PRODID:icalendar-ruby
CALSCALE:GREGORIAN
BEGIN:VEVENT
DTSTAMP:20260419T231721Z
UID:b69e838d-f37d-4059-9a61-d3d32ca8f5bc
DTSTART;VALUE=DATE:20210421
DESCRIPTION:Property ID# 503061\, Locatoin: 247 Cameron Road\, Tauranga (un
 less sold prior)\, Time: 1:00PM
SUMMARY:Auction for 
END:VEVENT
END:VCALENDAR
